BEGIN:VCALENDAR
VERSION:2.0
PRODID:-//VI2VA - ECPv6.15.20//NONSGML v1.0//EN
CALSCALE:GREGORIAN
METHOD:PUBLISH
X-WR-CALNAME:VI2VA
X-ORIGINAL-URL:https://vi2va.de
X-WR-CALDESC:Veranstaltungen für VI2VA
REFRESH-INTERVAL;VALUE=DURATION:PT1H
X-Robots-Tag:noindex
X-PUBLISHED-TTL:PT1H
BEGIN:VTIMEZONE
TZID:Europe/Helsinki
BEGIN:DAYLIGHT
TZOFFSETFROM:+0200
TZOFFSETTO:+0300
TZNAME:EEST
DTSTART:20240331T010000
END:DAYLIGHT
BEGIN:STANDARD
TZOFFSETFROM:+0300
TZOFFSETTO:+0200
TZNAME:EET
DTSTART:20241027T010000
END:STANDARD
BEGIN:DAYLIGHT
TZOFFSETFROM:+0200
TZOFFSETTO:+0300
TZNAME:EEST
DTSTART:20250330T010000
END:DAYLIGHT
BEGIN:STANDARD
TZOFFSETFROM:+0300
TZOFFSETTO:+0200
TZNAME:EET
DTSTART:20251026T010000
END:STANDARD
BEGIN:DAYLIGHT
TZOFFSETFROM:+0200
TZOFFSETTO:+0300
TZNAME:EEST
DTSTART:20260329T010000
END:DAYLIGHT
BEGIN:STANDARD
TZOFFSETFROM:+0300
TZOFFSETTO:+0200
TZNAME:EET
DTSTART:20261025T010000
END:STANDARD
END:VTIMEZONE
BEGIN:VEVENT
DTSTART;VALUE=DATE:20251007
DTEND;VALUE=DATE:20251010
DTSTAMP:20260422T200502
CREATED:20250530T131212Z
LAST-MODIFIED:20250530T131212Z
UID:4098-1759795200-1760054399@vi2va.de
SUMMARY:07.-09.10.25: Team'25 Europe
DESCRIPTION:Turn big ideas into your team’s biggest achievement\nWork is changing\, and how teams work should\, too. Join Atlassian’s largest gathering of European customers and discover real-life AI use cases\, dive into the cultural shifts that shape high-performing teams\, and the tools that can maximize team impact and joy.
URL:https://vi2va.de/event/07-09-10-25-team25-europe/
LOCATION:Fira Barcelona Gran Via\, Gran Via\, Barcelona\, Spain
CATEGORIES:Live Event
ATTACH;FMTTYPE=image/jpeg:https://vi2va.de/wp-content/uploads/2025/05/Image-5.jpg
END:VEVENT
END:VCALENDAR