BEGIN:VCALENDAR
VERSION:2.0
PRODID:-//VI2VA - ECPv6.15.20//NONSGML v1.0//EN
CALSCALE:GREGORIAN
METHOD:PUBLISH
X-ORIGINAL-URL:https://vi2va.de
X-WR-CALDESC:Veranstaltungen für VI2VA
REFRESH-INTERVAL;VALUE=DURATION:PT1H
X-Robots-Tag:noindex
X-PUBLISHED-TTL:PT1H
BEGIN:VTIMEZONE
TZID:Europe/Paris
BEGIN:DAYLIGHT
TZOFFSETFROM:+0100
TZOFFSETTO:+0200
TZNAME:CEST
DTSTART:20240331T010000
END:DAYLIGHT
BEGIN:STANDARD
TZOFFSETFROM:+0200
TZOFFSETTO:+0100
TZNAME:CET
DTSTART:20241027T010000
END:STANDARD
BEGIN:DAYLIGHT
TZOFFSETFROM:+0100
TZOFFSETTO:+0200
TZNAME:CEST
DTSTART:20250330T010000
END:DAYLIGHT
BEGIN:STANDARD
TZOFFSETFROM:+0200
TZOFFSETTO:+0100
TZNAME:CET
DTSTART:20251026T010000
END:STANDARD
BEGIN:DAYLIGHT
TZOFFSETFROM:+0100
TZOFFSETTO:+0200
TZNAME:CEST
DTSTART:20260329T010000
END:DAYLIGHT
BEGIN:STANDARD
TZOFFSETFROM:+0200
TZOFFSETTO:+0100
TZNAME:CET
DTSTART:20261025T010000
END:STANDARD
END:VTIMEZONE
BEGIN:VEVENT
DTSTART;TZID=Europe/Paris:20250507T140000
DTEND;TZID=Europe/Paris:20250507T150000
DTSTAMP:20260423T033125
CREATED:20250402T144107Z
LAST-MODIFIED:20250402T144107Z
UID:4011-1746626400-1746630000@vi2va.de
SUMMARY:07.05.25: Order2Cash für Service Provider
DESCRIPTION:Optimierte Kostenverrechnung und Transparenz für Managed Service Provider. \n\n\n\n\nSteigende Kosten\, komplexe Kundenanforderungen und dynamische Marktveränderungen verlangen von Dienstleistungsanbietern (Managed Service Providern (MSP)) stabile und transparente Service- und Finanzprozesse. Doch wie lassen sich diese Prozesse effizienter gestalten und Kostenverrechnung automatisieren? Welche Best Practices helfen\, finanzielle Risiken zu minimieren und volle Transparenz über die Service-Kosten zu gewinnen? \nUnser Webinar richtet sich an CIOs\, CFOs und Entscheider\, die als Managed Service Provider entweder firmenextern für andere Unternehmen oder firmenintern für Abteilungen und Tochtergesellschaften agieren. \n\nLive Use Cases mit Atlassian: Erfahren Sie\, wie Atlassian-Tools in Order2Cash-Prozesse integriert werden können\, um Workflows zu automatisieren\, Aufgaben effizient zu priorisieren und die Transparenz in der Finanzsteuerung zu verbessern. Mithilfe intelligenter Dashboards und Reporting-Funktionen behalten Sie jederzeit den Überblick über Kosten\, Ressourcen und Abrechnungen. \nHier kostenfrei anmelden
URL:https://vi2va.de/event/07-05-25-order2cash-fuer-service-provider/
LOCATION:online
CATEGORIES:Webinar
ATTACH;FMTTYPE=image/jpeg:https://vi2va.de/wp-content/uploads/2025/04/generated-image-1-3.jpg
ORGANIZER;CN="VI2VA":MAILTO:info@vi2va.de
END:VEVENT
END:VCALENDAR