BEGIN:VCALENDAR
VERSION:2.0
PRODID:-//VI2VA - ECPv6.15.20//NONSGML v1.0//EN
CALSCALE:GREGORIAN
METHOD:PUBLISH
X-WR-CALNAME:VI2VA
X-ORIGINAL-URL:https://vi2va.de
X-WR-CALDESC:Veranstaltungen für VI2VA
REFRESH-INTERVAL;VALUE=DURATION:PT1H
X-Robots-Tag:noindex
X-PUBLISHED-TTL:PT1H
BEGIN:VTIMEZONE
TZID:Europe/Paris
BEGIN:DAYLIGHT
TZOFFSETFROM:+0100
TZOFFSETTO:+0200
TZNAME:CEST
DTSTART:20240331T010000
END:DAYLIGHT
BEGIN:STANDARD
TZOFFSETFROM:+0200
TZOFFSETTO:+0100
TZNAME:CET
DTSTART:20241027T010000
END:STANDARD
BEGIN:DAYLIGHT
TZOFFSETFROM:+0100
TZOFFSETTO:+0200
TZNAME:CEST
DTSTART:20250330T010000
END:DAYLIGHT
BEGIN:STANDARD
TZOFFSETFROM:+0200
TZOFFSETTO:+0100
TZNAME:CET
DTSTART:20251026T010000
END:STANDARD
BEGIN:DAYLIGHT
TZOFFSETFROM:+0100
TZOFFSETTO:+0200
TZNAME:CEST
DTSTART:20260329T010000
END:DAYLIGHT
BEGIN:STANDARD
TZOFFSETFROM:+0200
TZOFFSETTO:+0100
TZNAME:CET
DTSTART:20261025T010000
END:STANDARD
END:VTIMEZONE
BEGIN:VEVENT
DTSTART;TZID=Europe/Paris:20250409T080000
DTEND;TZID=Europe/Paris:20250410T170000
DTSTAMP:20260423T050926
CREATED:20250224T195837Z
LAST-MODIFIED:20250225T072828Z
UID:3968-1744185600-1744304400@vi2va.de
SUMMARY:09.-10.04.25: Strategiegipfel IT Management
DESCRIPTION:VI2VA zu Gast bei project networks: Strategiegipfel IT Management \n  \nZwischen Disruption\, Chancen und Kostendruck \nDie IT als Innovationsmotor und Geschäftstreiber wird heute mehr gebraucht denn je. Durch die technologischen und politischen Rahmenbedingungen sind die Unternehmen darauf angewiesen\, mit teils radikalen Veränderungen und Anforderungen effizient umzugehen. Ohne IT ist dies nicht ansatzweise mehr zu gewährleisten. \nDadurch verändern sich Aufgaben\, Chancen und Herausforderungen im CIO-Bereich noch weitgehender und schneller als in den letzten Jahren. Sie nehmen oder sollten eine Schlüsselrolle in Unternehmen einnehmen. Ohne die Zusammenarbeit der gesamten C-Suite-Kollegen wird es nicht möglich sein\, digitale Geschäftsmodelle zu beschleunigen\,\ndie Zukunft der Arbeit zu ermöglichen und das Geschäftswachstum zu fördern. \nZusätzlich zu diesen Entwicklungen kommt aktuell noch der Kostendruck bei vielen Unternehmen – und wieder einmal stellt sich die Frage „Sparen in der IT oder besser in diese investieren“.
URL:https://vi2va.de/event/09-10-04-25-strategiegipfel-it-management/
LOCATION:Grand Hotel Esplanade Berlin\, Berlin
CATEGORIES:Live Event
ATTACH;FMTTYPE=image/jpeg:https://vi2va.de/wp-content/uploads/2025/02/1-B2B-Dec24.jpg
END:VEVENT
END:VCALENDAR